BEGIN:VCALENDAR
VERSION:2.0
PRODID:-//Hudson River Sloop Clearwater - ECPv6.15.20//NONSGML v1.0//EN
CALSCALE:GREGORIAN
METHOD:PUBLISH
X-WR-CALNAME:Hudson River Sloop Clearwater
X-ORIGINAL-URL:https://www.clearwater.org
X-WR-CALDESC:Events for Hudson River Sloop Clearwater
REFRESH-INTERVAL;VALUE=DURATION:PT1H
X-Robots-Tag:noindex
X-PUBLISHED-TTL:PT1H
BEGIN:VTIMEZONE
TZID:America/New_York
BEGIN:DAYLIGHT
TZOFFSETFROM:-0500
TZOFFSETTO:-0400
TZNAME:EDT
DTSTART:20240310T070000
END:DAYLIGHT
BEGIN:STANDARD
TZOFFSETFROM:-0400
TZOFFSETTO:-0500
TZNAME:EST
DTSTART:20241103T060000
END:STANDARD
BEGIN:DAYLIGHT
TZOFFSETFROM:-0500
TZOFFSETTO:-0400
TZNAME:EDT
DTSTART:20250309T070000
END:DAYLIGHT
BEGIN:STANDARD
TZOFFSETFROM:-0400
TZOFFSETTO:-0500
TZNAME:EST
DTSTART:20251102T060000
END:STANDARD
BEGIN:DAYLIGHT
TZOFFSETFROM:-0500
TZOFFSETTO:-0400
TZNAME:EDT
DTSTART:20260308T070000
END:DAYLIGHT
BEGIN:STANDARD
TZOFFSETFROM:-0400
TZOFFSETTO:-0500
TZNAME:EST
DTSTART:20261101T060000
END:STANDARD
END:VTIMEZONE
BEGIN:VEVENT
DTSTART;TZID=America/New_York:20250528T183000
DTEND;TZID=America/New_York:20250528T210000
DTSTAMP:20260421T132654
CREATED:20250521T191713Z
LAST-MODIFIED:20250521T191713Z
UID:38480-1748457000-1748466000@www.clearwater.org
SUMMARY:Hudson Valley Science Cafe: An Examination and Discussion of the Concept of the Rights of Nature in our Laws
DESCRIPTION:Attend the May 28 Hudson Valley Science Cafe at the Temple Hill Tavern in New Windsor featuring John McLaughlin\, Ph.D. retired Research Entomologist who will be sharing an overview of the Rights of Nature. \nSeating is limited\, and admission is $5/person. Please RSVP by Monday\, May 26 to Toby Rossman at tobyrossman@yahoo.com. Please arrive by 6:30pm to order and receive food and drinks\, before the speaker presents at 7:30. \nFor a primer on the Rights of Nature: \n\nThe Rights of Nature — Can an Ecosystem Bear Legal Rights?
URL:https://www.clearwater.org/event/hudson-valley-science-cafe-an-examination-and-discussion-of-the-concept-of-the-rights-of-nature-in-our-laws/
LOCATION:Temple Hill Tavern\, 171 Temple Hill Rd\, New Windsor\, NY\, 12553
CATEGORIES:Advocacy,Community Event,Partner's Event
ORGANIZER;CN="Hudson Valley Science Cafe":MAILTO:tobyrossman@yahoo.com
END:VEVENT
BEGIN:VEVENT
DTSTART;TZID=America/New_York:20250517T183000
DTEND;TZID=America/New_York:20250517T220000
DTSTAMP:20260421T132654
CREATED:20250404T175843Z
LAST-MODIFIED:20250404T175843Z
UID:38230-1747506600-1747519200@www.clearwater.org
SUMMARY:May Walkabout Clearwater Coffeehouse featuring Jay Unger and Molly Mason
DESCRIPTION:Join the Walkabout Clearwater Chorus on Saturday\, May 17 for their May Coffeehouse\, monthly gatherings featuring performances by folk musicians. Before the featured performance\, audience members are invited to join the chorus in song. May’s featured musical act is Jay Unger and Molly Mason. Doors open at 6:30pm\, followed by the Sing-a-Long/Teachabout at 6:45pm\, followed by the featured performance at 7:30pm. \nAbout Jay Unger and Molly Mason\nJay Ungar & Molly Mason are musicians of enormous talent who draw their repertoire and inspiration from a wide range of American musical styles — 19th-century classics\, lively Appalachian\, Cajun\, and Celtic fiddle tunes\, and favorites from the golden age of country and swing — along with their own songs\, fiddle tunes\, and orchestral compositions. Jay and Molly achieved international acclaim when their performance of Jay’s composition\, Ashokan Farewell\, became the musical hallmark of Ken Burns’ The Civil War on PBS. The soundtrack won a Grammy\, and Ashokan Farewell was nominated for an Emmy. The piece was originally inspired by Jay & Molly’s Ashokan Fiddle & Dance Camps in New York’s Catskill Mountains\, which are still going strong today. \nIn recent years\, Jay and Molly have reached an ever-widening audience through their appearances on Great Performances\, A Prairie Home Companion\, their own public radio specials\, and through their work on film soundtracks such as Brother’s Keeper\, Legends of the Fall\, and a host of Ken Burns’ PBS documentaries. They’ve had the honor of performing at the White House for two sitting Presidents and continue to tour extensively\, delighting audiences across the country. \n  \nTICKETS:\nReserved Tickets: $30 – Reserve tickets in advance using the ticket form. Reserved tickets will be set aside for you and paid for at the door by check\, cash\, or credit card. Reservations may be made until 6:00pm the Friday before the performance date.\nTickets at the Door: $35 – Purchase tickets at the door by check\, cash\, or credit card. \n  \nAbout the Walkabout Clearwater Chorus\nCarrying on the vision of our founder\, Pete Seeger\, since 1984\, The Walkabout Clearwater Chorus is dedicated to promoting environmental awareness and social action through education and is a volunteer-run New York State not-for-profit organization. Walkabout Clearwater Chorus is a chartered member club of the Hudson River Sloop Clearwater\, and our activities support the work of our parent organization.\nThe Walkabout Clearwater Chorus is more than a singing group. Beyond performing at various venues\, including Coffeehouse\, rallies\, and marches\, Walkabout brings folk music to the younger generations through school programs and\, foremost\, the Walkabout Clearwater Chorus is a group of activists – using their voices to address the issue\, uniting song with purpose.
URL:https://www.clearwater.org/event/may-walkabout-clearwater-coffeehouse-featuring-jay-unger-and-molly-mason/
LOCATION:Community Unitarian Universalist Congregation (CUUC)\, 468 Rosedale Ave\, White Plains\, NY\, 10605\, United States
CATEGORIES:Clearwater Events,Music Events
END:VEVENT
BEGIN:VEVENT
DTSTART;TZID=America/New_York:20250515T190000
DTEND;TZID=America/New_York:20250515T220000
DTSTAMP:20260421T132654
CREATED:20250404T175239Z
LAST-MODIFIED:20250404T192102Z
UID:38225-1747335600-1747346400@www.clearwater.org
SUMMARY:Pete Seeger: Songs & Stories featuring Michael J. Miles & Tony Trischka
DESCRIPTION:Pete Seeger (1919-2014) was a legendary musician and activist. He was Woody Guthrie’s friend\, and used his music to protest for Civil Rights\, for the environment and against the war in Vietnam. For his unflinching efforts\, he was blacklisted and forced to testify before the House UnAmerican Activities Committee. Over his 90+ years\, Pete touched the true heart and soul of America with his songs and his passion for what is right. As an environmental activist\, he founded Hudson River Sloop Clearwater to “build a boat to save the river\,” creating an intergenerational community of Hudson River advocates through education\, sailing\, advocacy\, and music. \nThis event is a benefit fundraiser for Hudson River Sloop Clearwater\, featuring Michael J. Miles and Tony Trischka will be opened by Betty and the Baby Boomers. Miles and Trischka are both world-renowned banjo players who had decades-long relationships with Pete Seeger\, and the Baby Boomers\, consisting of Betty Boomer\, Jean McAvoy\, Paul Rubeo\, Steve Stanne\, and Robert Bard\, came together back in 1987 through their work for Clearwater. \nIn this one-time-only event at the renowned Towne Crier in Beacon\, NY (Pete’s hometown)\, Miles and Trischka will share their music and their stories of personal encounters with Pete Seeger. You can expect some of the best banjo music on planet earth\, along with stories about Pete\, including some of his testimony before the House Un-American Activities Committee. The story of Pete Seeger demonstrates over and over his passion for social justice and planet earth. And Pete’s tool of choice for delivering his message was the banjo. \nWe are so grateful to musicians Michael J. Miles\, Tony Trischka\, and Phil Ciganer\, owner of the Towne Crier Cafe\, for collaborating to create this celebration of Clearwater’s founder and benefit concert to support our work to protect the Hudson River. \n \nMichael Miles (R) and Tony Trischka (L) \nAbout the Musicians:\nMICHAEL J. MILES \nImagine the award-winning composer/musician: grows up in Chicago. His Irish family sings with the player-piano\, and talks politics and poetry. His inner jukebox spins with 500 years of pop songs. These songs turn into set lists and a dozen musical documentaries for the stage: including his signature\, “From Senegal To Seeger\,” tracing the wicked story of the banjo’s journey and featuring Pete Seeger’s testimony before the House UnAmerican Activities Committee. \nWhen Pete heard Michael for the first time\, he wrote\, “This is one of the most beautiful recordings I’ve ever heard … it is enough to make me want to learn the banjo all over again.” \nWith banjo or guitar\, as a singer\, actor\, poet\, composer\, storyteller – Miles drew invitations from Marrakesh to Istanbul\, Belfast to Beirut\, with stops at the Smithsonian Institution\, the Kennedy Center\, Chicago’s Symphony Center\, Ravinia Festival\, music festivals and art centers across the U.S. \nA renowned educator and leader\, Miles is past president of International Folk Alliance and former Program Director at the legendary Old Town School of Folk Music\, where his work turned a small folk school into the largest community music school in America. \nRecent releases include “American Bach Revisited\,” Miles’ interpretations of J.S.Bach and “Mississippi River Suite\,” where\, with poetry and composition\, Miles uses the great river to portray a divided nation. Coming later this year is the “Great American Jukebox.” Learn more about Michael Miles.  \nTONY TRISCHKA \nOne of the most influential banjo players in the roots music world\, Tony Trischka has spent over half a century as a consummate banjo artist. His stylings have inspired generations of bluegrass and acoustic musicians. His seventeen solo albums are part of every banjo-lover’s musical reference. His latest release\, “Earl Jam\,” a tribute to his “North Star”\, Earl Scruggs\, has been released to glowing reviews and features Billy Strings\, Molly Tuttle\, Vince Gill and Del McCoury. It was voted Collaborative Recording of the Year (2024) by the IBMA. It was also a Grammy nominee for Bluegrass Album of the Year (2025). \nTony has recorded and performed with Earl Scruggs\, Pete Seeger\, Steve Martin\, Ed Helms\, John Denver\, William S. Burroughs\, The Allman Brothers\, Miley Cyrus and many more. He’s a three-time Grammy nominee and produced Steve Martin’s “Rare Bird Alert\,” featuring Paul McCartney and the Chicks. He was the musical director of the documentary “The Banjo Project\,” which aired on PBS in 2011. Tony has performed multiple times on the Grand Ole Opry\, and made appearances at Carnegie Hall\, The Kennedy Center and Madison Square Garden. \nIn addition to his skills as a composer and performer\, Tony is one of the instrument’s top teachers\, and has created numerous instructional books\, DVDs and CDs. The ground-breaking Tony Trischka School of Banjo\, launched in 2009\, is the online banjo home for students around the world. Learn more about Tony Trischka. \nBETTY AND THE BABY BOOMERS\nBased in the Hudson Valley\, Betty and the Baby Boomers (Betty Boomer\, Jean McAvoy\, Paul Rubeo\, Steve Stanne\, and Robert Bard) came together back in 1987 through their work for Clearwater. The group has been praised regionally – they “sing and play old-school folk like it was brand spanking new” (Kingston’s Daily Freeman); nationally – “a refreshing reminder of the halcyon days of American folk music” (Sing Out!); and internationally\, with many bookings over decades at Clifden Arts Week\, a long-running festival in Ireland. The group wraps distinctive four-part harmonies and sparkling guitar and Dobro licks around songs from Pete Seeger\, Phil Ochs\, and others who inspired their generation\, plus original and contemporary material in that tradition. Learn more about Betty and the Baby Boomers.
URL:https://www.clearwater.org/event/pete-seeger-songs-stories-featuring-michael-j-miles-tony-trischka/
LOCATION:Towne Crier Cafe\, 379 Main St\, Beacon\, NY\, 12508\, United States
CATEGORIES:Music Events,Partner's Event
ATTACH;FMTTYPE=image/png:https://www.clearwater.org/wp-content/uploads/2025/04/Town-Crier-5.15.25-Flyer-Instagram-Graphic.png
END:VEVENT
BEGIN:VEVENT
DTSTART;VALUE=DATE:20250509
DTEND;VALUE=DATE:20251016
DTSTAMP:20260421T132654
CREATED:20250404T174726Z
LAST-MODIFIED:20250404T174726Z
UID:38222-1746748800-1760572799@www.clearwater.org
SUMMARY:Lens on the Hudson Exhibit at the Hudson River Museum: Photographs by Joseph Squillante
DESCRIPTION:Experience the last half century on the Hudson River through the lens of renowned Hudson River photographer Joseph Squillante at the Hudson River Museum. This exhibit celebrates Joseph Squillante’s golden anniversary by highlighting his intersection with the environmental movements that gained momentum along the river in the 1970s and continues today.
URL:https://www.clearwater.org/event/lens-on-the-hudson-exhibit-at-the-hudson-river-museum-photographs-by-joseph-squillante/
LOCATION:Hudson River Museum\, 511 Warburton Ave\, Yonkers\, NY\, 10701\, United States
CATEGORIES:Partner's Event
ATTACH;FMTTYPE=image/jpeg:https://www.clearwater.org/wp-content/uploads/2025/03/on-view-exhibition-squillante-1-scaled-1.jpg
END:VEVENT
BEGIN:VEVENT
DTSTART;TZID=America/New_York:20250425T080000
DTEND;TZID=America/New_York:20250425T170000
DTSTAMP:20260421T132654
CREATED:20250425T173241Z
LAST-MODIFIED:20250425T173241Z
UID:38349-1745568000-1745600400@www.clearwater.org
SUMMARY:Pride in the Sky
DESCRIPTION:Big Gay Hudson Valley in partnership with the Friends of the Walkway nonprofit organization and New York State Office of Parks\, Recreation and Historic Preservation will host the second annual Pride In The Sky community celebration on Walkway Over the Hudson State Historic Park. \nThis FREE all-ages\, pet-friendly event will kickoff Pride season in the Hudson Valley\, and will include a Pride Flag procession\, dockside drag storytime\, Pet Pawrade\, life entertainment for all ages\, food and drink\, vendors\, LGBTQ+ pride groups\, community\, organizations\, and more on both sides of the Walkway and on the Walkway itself! \n\nWe will be hosting two Pride Sails aboard the Clearwater at 10:30am and 5pm\, celebrate pride with a scenic sail on the Hudson River. As always\, guests are welcome to bring snacks and drinks\, though consumption of alcohol is at the discretion of the captain. Purchase 10:30am sail tickets; purchase 5pm sail tickets. \n\nFor full Pride in the Sky details\, visit: BigGayHudsonValley.com/PrideInTheSky
URL:https://www.clearwater.org/event/pride-in-the-sky/
LOCATION:NY
CATEGORIES:Community Event,Partner's Event
ATTACH;FMTTYPE=image/png:https://www.clearwater.org/wp-content/uploads/2025/04/pride-in-teh-sky.png
END:VEVENT
BEGIN:VEVENT
DTSTART;TZID=America/New_York:20250419T180000
DTEND;TZID=America/New_York:20250419T220000
DTSTAMP:20260421T132654
CREATED:20250404T174348Z
LAST-MODIFIED:20250404T174348Z
UID:38218-1745085600-1745100000@www.clearwater.org
SUMMARY:April Walkabout Clearwater Coffeehouse featuring Betty and the Baby Boomers
DESCRIPTION:Join the Walkabout Clearwater Chorus on Saturday\, April 19 for their April Coffeehouse\, monthly gatherings\nfeaturing performances by folk musicians. Before the featured performance\, audience members are invited to\njoin the chorus in song. April’s featured musical act is Betty and the Baby Boomers. Doors open at 6:30pm\,\nfollowed by the Sing-a-Long/Teachabout at 6:45pm\, followed by the featured performance at 7:30pm. \nAbout Betty and the Baby Boomers\nBetty and the Baby Boomers consists of Betty Boomer\, Jean Valla McAvoy\, Paul Rubeo\, Robert Bard\, and Steve Stanne. Their fans hail from the mountains of Connemara in Ireland to the Catskills overlooking New York’s Hudson Valley. The folk magazine Sing Out! described the group as “a refreshing reminder of the halcyon days of American folk music”. In each song\, they display the sheer joy of singing and playing music.” Along with performing original songs from Jean\, the Boomers draw on traditional tunes\, music from classic folkies like Woody Guthrie\, Pete Seeger\, and Phil Ochs\, Americana roots music\, and contemporary artists such as Greg Brown\, Bruce Springsteen\, and Dougie MacLean. “Whatever the source\, each song is ‘Boomerized’ – set in distinctive arrangements with three and four-part harmonies. The singers’ voices differ in range and color; they combine in a unique and resonant blend that is the Boomers’ signature. Their vocals are coupled to impressive instrumental work on guitars\, Dobro\, bass\, bodhran\, and kazoo; sometimes they perform a capella selection. Critics agree the music is comprised of melodies\, meaningful lyrics\, charming wit -all blended with engaging personalities! \n  \nTICKETS:\nReserved Tickets: $30 – Reserve tickets in advance using the ticket form. Reserved tickets will be set aside for you and paid for at the door by check\, cash\, or credit card. Reservations\nmade until 6:00pm the Friday before the performance date.\nTickets at the Door: $35 – Purchase tickets at the door by check\, cash\, or credit card. \nAbout the Walkabout Clearwater Chorus\nCarrying on the vision of our founder\, Pete Seeger\, since 1984\, The Walkabout Clearwater Chorus is dedicated to promoting environmental awareness and social action through education and is a volunteer-run New York State not-for-profit organization. Walkabout Clearwater Chorus is a chartered member club of the Hudson River Sloop Clearwater\, and our activities support the work of our parent organization. The Walkabout Clearwater Chorus is more than a singing group. Beyond performing at various venues\, including Coffeehouse\, rallies\, and marches\, Walkabout brings folk music to the younger generations through school programs and\, foremost\, the Walkabout Clearwater Chorus is a group of activists – using their voices to address the issue\, uniting song with purpose. \n  \n 
URL:https://www.clearwater.org/event/april-walkabout-clearwater-coffeehouse-featuring-betty-and-the-baby-boomers/
LOCATION:Community Unitarian Universalist Congregation (CUUC)\, 468 Rosedale Ave\, White Plains\, NY\, 10605\, United States
CATEGORIES:Music Events,Partner's Event
ATTACH;FMTTYPE=image/jpeg:https://www.clearwater.org/wp-content/uploads/2025/03/BoomersMikellaRubeoHR-scaled.jpg
END:VEVENT
BEGIN:VEVENT
DTSTART;TZID=America/New_York:20250417T190000
DTEND;TZID=America/New_York:20250417T210000
DTSTAMP:20260421T132654
CREATED:20250404T173528Z
LAST-MODIFIED:20250404T173528Z
UID:38214-1744916400-1744923600@www.clearwater.org
SUMMARY:Beacon Sloop Club Winter Lecture Series: God Bless Benedict Arnold - The True Story of America's Most Hated Man with Jack Kelly
DESCRIPTION:This spring marks the 250th anniversary of the beginning of the Revolutionary War. The Hudson River and Champlain Valley were the scene of critical events in that conflict and played an even bigger role in the career of Benedict Arnold. \nThe True Story of America’s Most Hated Man gives an eye opening account of both the undeniable heroism of Arnold’s early efforts for the patriot cause and his precipitous fall from grace. The combination has made him one of the most interesting figures of the Revolution. \nJoin the Beacon Sloop Club to learn from award-winning historian and novelist\, Jack Kelly\, who will share an eye-opening account of both the undeniable heroism of Arnold’s early efforts for the patriot cause and his precipitous fall from grace. \nLearn more about the talk or the Beacon Sloop Club.
URL:https://www.clearwater.org/event/beacon-sloop-club-winter-lecture-series-god-bless-benedict-arnold-the-true-story-of-americas-most-hated-man-with-jack-kelly/
LOCATION:Beacon Sloop Club\, 2 Red Flynn Drive\, Beacon\, 12508\, United States
CATEGORIES:Community Event,Partner's Event
ATTACH;FMTTYPE=image/png:https://www.clearwater.org/wp-content/uploads/2025/03/Screenshot-2025-03-02-125828.png
END:VEVENT
BEGIN:VEVENT
DTSTART;TZID=America/New_York:20250406T150000
DTEND;TZID=America/New_York:20250406T190000
DTSTAMP:20260421T132654
CREATED:20250404T172926Z
LAST-MODIFIED:20250404T180456Z
UID:38210-1743951600-1743966000@www.clearwater.org
SUMMARY:Hudson River Sloop Clearwater’s Spirit of the Hudson Gala
DESCRIPTION:Learn more about Clearwater’s 2025 Spirit of the Hudson Gala.
URL:https://www.clearwater.org/event/spirit-of-the-hudson-gala/
LOCATION:The Garrison
CATEGORIES:Clearwater Events
ATTACH;FMTTYPE=image/png:https://www.clearwater.org/wp-content/uploads/2025/04/FINAL.png
ORGANIZER;CN="Hudson River Sloop Clearwater":MAILTO:jen@clearwater.org
END:VEVENT
END:VCALENDAR